BEGIN:VCALENDAR
VERSION:2.0
PRODID:-//RUHX - ECPv6.15.17.1//NONSGML v1.0//EN
CALSCALE:GREGORIAN
METHOD:PUBLISH
X-WR-CALNAME:RUHX
X-ORIGINAL-URL:https://ruhx.org.uk
X-WR-CALDESC:Events for RUHX
REFRESH-INTERVAL;VALUE=DURATION:PT1H
X-Robots-Tag:noindex
X-PUBLISHED-TTL:PT1H
BEGIN:VTIMEZONE
TZID:Europe/London
BEGIN:DAYLIGHT
TZOFFSETFROM:+0000
TZOFFSETTO:+0100
TZNAME:BST
DTSTART:20210328T010000
END:DAYLIGHT
BEGIN:STANDARD
TZOFFSETFROM:+0100
TZOFFSETTO:+0000
TZNAME:GMT
DTSTART:20211031T010000
END:STANDARD
BEGIN:DAYLIGHT
TZOFFSETFROM:+0000
TZOFFSETTO:+0100
TZNAME:BST
DTSTART:20220327T010000
END:DAYLIGHT
BEGIN:STANDARD
TZOFFSETFROM:+0100
TZOFFSETTO:+0000
TZNAME:GMT
DTSTART:20221030T010000
END:STANDARD
BEGIN:DAYLIGHT
TZOFFSETFROM:+0000
TZOFFSETTO:+0100
TZNAME:BST
DTSTART:20230326T010000
END:DAYLIGHT
BEGIN:STANDARD
TZOFFSETFROM:+0100
TZOFFSETTO:+0000
TZNAME:GMT
DTSTART:20231029T010000
END:STANDARD
BEGIN:DAYLIGHT
TZOFFSETFROM:+0000
TZOFFSETTO:+0100
TZNAME:BST
DTSTART:20240331T010000
END:DAYLIGHT
BEGIN:STANDARD
TZOFFSETFROM:+0100
TZOFFSETTO:+0000
TZNAME:GMT
DTSTART:20241027T010000
END:STANDARD
END:VTIMEZONE
BEGIN:VEVENT
DTSTART;VALUE=DATE:20230301
DTEND;VALUE=DATE:20230401
DTSTAMP:20260421T035314
CREATED:20230208T124942Z
LAST-MODIFIED:20230208T172318Z
UID:1943-1677628800-1680307199@ruhx.org.uk
SUMMARY:March through March
DESCRIPTION:Walk 400k steps in March to help introduce Robotic surgery at RUH Bath.\nMarch through March is a virtual steps challenge for anyone\, anywhere\, who wants to help us bring Robotic surgery to the RUH Bath. Walk 400k steps in March – around 13\,000 steps a day! \nWalk an average amount daily\, plan some big weekend adventures\, or record your steps at work. Every step you take will help introduce Robotic surgery at RUH Bath. \n\n\n\n\n\n                          \n\n\n\n\n\nRegister for the challenge today by joining our Facebook group here. \n\nJoin our Facebook group community\nComplete our registration form– this is pinned to the top of the group\nSet up your fundraising page to receive your FREE t-shirt* (you can do this on the registration form). You’ll also receive a steps tracker to help you keep track throughout March.\n\n*only those who create a fundraising page will receive their free t-shirt. \n\n\n\n\n\n\nWhy 400k steps?\nWe want to introduce Robotic surgery at RUH Bath\, which will assist with up to 400 surgeries a year – predominantly across Prostate\, Ovarian\, Cervical and Colorectal cancer. \nYour steps will help raise funds to bring innovative technology to your local hospital. \nRead more about the benefits of Robotic surgery\, and why we are raising funds for this project\, here. \nWhy not try:\n• A daily walk\n• Walking to work\n• Track your steps at the gym\n• Track your steps at work\n• Plan some big weekend exploring – we’ll even send you our favourite walking routes! \nEvent accessibility\nWant to take part in a wheelchair? You can track distance instead of steps! 400k steps equals around 17.82 miles. \nResources\nDownload the Steps tracker\n \n  \nReady to book? Join #TeamRUHX today.\n\n\n\n\n\n\n\n \nRead our frequesntly asked questions\n \n  \nExpandHide\n \n\n\nWhat is ‘March through March – 400k steps in March?\nWe’re challenging supporters of the RUH Bath to get moving and take steps to help bring Robotic surgery to the hospital. Over the 31 days in March\, walk 400\,000 steps your own way and raise funds for our new campaign. That’s roughly 13\,000 steps a day! \nAim for a daily step target\, plan big adventures to knock off chunks of steps\, and record your steps at work – there really are lots of ways to get involved.  \nOnce registered\, you will be asked to set up a Facebook Fundraising page. Once you have set a page up you will receive your FREE t-shirt. All who register will get a steps tracker\, to help you stay on track with the steps you take. \nHow do I sign up?\nJoin our Facebook group where the event is held. Once accepted\, there is a form you will need to fill in to give the charity your details\, and set up your Facebook fundraising page. This event is run using GivePanel so everything is on Facebook\, making it nice and easy for you! \nAlternatively if you do not have Facebook\, you can email us at fundraising@ruh.nhs.net to let us know you will be taking part. You can also create a JustGiving page to fundraise.\nThe link to register is here: https://givp.nl/register/bxyDgi4S  \nIs there a registration fee?\nNo! It’s free to sign up. We ask that you fundraise whatever you can to help the RUH Bath introduce Robotic surgery. \nHow many steps do I need to do?\nWe are challenging you to walk 400k steps over the month of March – that’s 400\,000 steps over 31 days. You can either walk an average amount a day (around 13\,000) or plan some big walks to knock off chunks.  \nThis event is accessible – all we ask is that you try your best. If you don’t reach 400k\, or want to set yourself a smaller distance target\, that is absolutely fine too. \nWhat will I get for signing up?\nEveryone who creates a fundraising page will receive a free t-shirt. All sign ups will receive a free steps tracker to help them keep track over the month. By joining the Facebook group\, you will be part of our exclusive community of walkers all over the UK making a difference. \nHow do I track my steps?\nYou can use an app on your phone like a built in health app or Strava\, or a fitness watch.  \nI have accessibility needs – can I still take part?\nYes\, of course! 400k steps roughly equals 17.82 miles\, so feel free to cover this distance in an alternate way ie. Wheel 17.82 miles in a wheelchair throughout March. \nHow can I fundraise?\nPlease join our Facebook group and complete your registration form. This form will let you set up a Facebook fundraising page\, or you can choose to set this up at a later date.\nIf you don’t use Facebook\, please create a JustGiving page and let us know you are taking part. \nI’ve created my fundraising page – how long until I get my t-shirt?\nWe endeavor to post all t-shirt packs within 14 days of your page being set up. Your t-shirt will be arriving by Royal Mail. If after 14 days you have not received your t-shirt please contact us to let us know.  \nCan I start the challenge before my t-shirt pack arrives?\nYes\, absolutely! We can’t wait to see your selfie in our charity top but until it arrives please start your challenge. The steps tracker will be available to download on the group page.
URL:https://ruhx.org.uk/events/march-through-march/
LOCATION:Online\, United Kingdom
CATEGORIES:Challenge,Walk
ATTACH;FMTTYPE=image/jpeg:https://ruhx.org.uk/wp-content/uploads/2023/02/1.jpg
ORGANIZER;CN="RUHX":MAILTO:fundraising@ruhx.org.uk
END:VEVENT
BEGIN:VEVENT
DTSTART;VALUE=DATE:20220911
DTEND;VALUE=DATE:20220912
DTSTAMP:20260421T035314
CREATED:20220809T121056Z
LAST-MODIFIED:20220814T232729Z
UID:952-1662854400-1662940799@ruhx.org.uk
SUMMARY:Wells Festival of Running
DESCRIPTION:Visit the historic city of Wells for the Wells Festival of Running on Sunday 11 September 2022.\nThe festival will include a 10km and 5km road race\, as well as a 3km run for junior runners. \nIt is a fast and flat course which runs on roads and wide gravelled paths\, and suits speedy runners as well as those who like to get more value out of their fee! \nThe race starts in the beautiful Market Place under the gaze of two medieval gateways – the Penniless Porch and the Bishop’s Eye. \nA fast and furious grandstand finish is guaranteed alongside the Bishop’s Palace moat. \nGoody bag\, medal and T shirt all included. \nA great day out for all the family! \n  \nJoin team RUHX and do something extra extraordinary\nStep 1: Get a place directly with the event organiser here \nStep 2: Contact us to let us know you have a place. Email: fundraising@ruhx.org.uk \nStep 3: Set up a Justgiving fundraising page here \n 
URL:https://ruhx.org.uk/events/wells-festival-of-running/
LOCATION:Wells Festival of Running\, Market Place\, Wells\, BA5 2RB
CATEGORIES:Running
ATTACH;FMTTYPE=image/jpeg:https://ruhx.org.uk/wp-content/uploads/2022/08/Wells-Festival-of-Running.jpg
END:VEVENT
BEGIN:VEVENT
DTSTART;TZID=Europe/London:20220910T074500
DTEND;TZID=Europe/London:20220910T170000
DTSTAMP:20260421T035314
CREATED:20220808T225419Z
LAST-MODIFIED:20220814T232757Z
UID:930-1662795900-1662829200@ruhx.org.uk
SUMMARY:Bristol Epic 8 Hour Race
DESCRIPTION:Run as many or as few 3.3 mile laps as you wish in the 8 hours of the race.\nThis can be run solo or in a team of 4\, however only one member of the team can be out on the course at any one time.The route is flat/undulating and 1 lap equates to 3.3 miles. \nYou can take as many rest breaks as you want during the event (although the clock will still be running even if you are not) and you certainly do not have to run for the constant 8 hours unless you want too of course! \nCourse incorporates public footpaths\, woodlands and open countryside. \nAfter each lap\, you will be able to visit the treats table where the usual Aspire goodies will be available to rehydrating/refuelling. \nJust 1 lap will ensure you receive the bespoke medal rewarded to all finishers. \nSo\, the choice of distance you wish to cover is up to you: 4 laps = Half Marathon\, 8 Laps = Marathon and more than that you are looking at an ultra. \n  \nJoin team RUHX and do something extra extraordinary\nStep 1: Get a place directly with the event organiser here \nStep 2: Contact us to let us know you have a place. Email: fundraising@ruhx.org.uk \nStep 3: Set up a Justgiving fundraising page here
URL:https://ruhx.org.uk/events/bristol-epic-8-hour-race/
LOCATION:Epic 8 hour Race\, Pensford Memorial Hall\, Bristol\, BS39 4HW
CATEGORIES:Running
ATTACH;FMTTYPE=image/jpeg:https://ruhx.org.uk/wp-content/uploads/2022/08/Epic-8-Hour-Race.jpg
END:VEVENT
BEGIN:VEVENT
DTSTART;VALUE=DATE:20220715
DTEND;VALUE=DATE:20220716
DTSTAMP:20260421T035314
CREATED:20220712T132156Z
LAST-MODIFIED:20220720T090828Z
UID:593-1657843200-1657929599@ruhx.org.uk
SUMMARY:NHS Big Tea
DESCRIPTION:July 2022\nHelp us to celebrate 74th years of the NHS this July!\nJoin RUHX and other NHS charities this July in celebrating all that makes the NHS great! From coffee mornings to cake competitions\, get involved today to show that together\, we have the power to do more. \nHow you can get involved? \nHost a “more than” Coffee Morning \nWhat turns a normal coffee morning into a “more than” coffee morning? \nThe answer is YOU! \nBy getting involved\, you’re arranging more than just a coffee morning. You’re supporting extra extraordinary healthcare in Bath and beyond. So why not get together with friends and family to share a cuppa and a cake – it’s a recipe for a great time! \nOrganise your Coffee Morning in 3 simple steps (which\, let’s face it\, is much simpler than many cake recipes!) \nStep 1. Set a date \nStep 2. Invite your friends/family/colleagues \nStep 3.Create a JustGiving Page  \n  \nCake Decorating Competition \nAre you the star baker in the office? Are you eXtraordinary with eggs\, flour and butter? Do you have a steady hand?  If you answered yes to any of these\, then why not enter our cake decorating competition! \nEvery birthday celebration needs a cake\, and what better excuse than to create a beautifully designed cake about what the NHS\, or RUHX means to you! \nSimply bake your cake\, decorate it\, and then pop us a photo of your masterpiece on our Facebook post.
URL:https://ruhx.org.uk/events/nhs-big-tea/
ATTACH;FMTTYPE=image/png:https://ruhx.org.uk/wp-content/uploads/2022/05/RUHX-Wol.png
END:VEVENT
END:VCALENDAR