BEGIN:VCALENDAR
VERSION:2.0
PRODID:-//RUHX - ECPv6.15.17.1//NONSGML v1.0//EN
CALSCALE:GREGORIAN
METHOD:PUBLISH
X-ORIGINAL-URL:https://ruhx.org.uk
X-WR-CALDESC:Events for RUHX
REFRESH-INTERVAL;VALUE=DURATION:PT1H
X-Robots-Tag:noindex
X-PUBLISHED-TTL:PT1H
BEGIN:VTIMEZONE
TZID:Europe/London
BEGIN:DAYLIGHT
TZOFFSETFROM:+0000
TZOFFSETTO:+0100
TZNAME:BST
DTSTART:20240331T010000
END:DAYLIGHT
BEGIN:STANDARD
TZOFFSETFROM:+0100
TZOFFSETTO:+0000
TZNAME:GMT
DTSTART:20241027T010000
END:STANDARD
BEGIN:DAYLIGHT
TZOFFSETFROM:+0000
TZOFFSETTO:+0100
TZNAME:BST
DTSTART:20250330T010000
END:DAYLIGHT
BEGIN:STANDARD
TZOFFSETFROM:+0100
TZOFFSETTO:+0000
TZNAME:GMT
DTSTART:20251026T010000
END:STANDARD
BEGIN:DAYLIGHT
TZOFFSETFROM:+0000
TZOFFSETTO:+0100
TZNAME:BST
DTSTART:20260329T010000
END:DAYLIGHT
BEGIN:STANDARD
TZOFFSETFROM:+0100
TZOFFSETTO:+0000
TZNAME:GMT
DTSTART:20261025T010000
END:STANDARD
END:VTIMEZONE
BEGIN:VEVENT
DTSTART;VALUE=DATE:20250705
DTEND;VALUE=DATE:20250706
DTSTAMP:20260420T011329
CREATED:20240115T104545Z
LAST-MODIFIED:20240912T115032Z
UID:3025-1751673600-1751759999@ruhx.org.uk
SUMMARY:Inflatable 5K - Bristol
DESCRIPTION:Get ready to bounce your way through The World’s BIGGEST and most EPIC Inflatable 5K Obstacle Course! This event is taking place at Bristol on Sat 5 July 2025\, and it’s going to be BIGGER\, BOUNCIER\, and BETTER than ever before! The excitement has been pumped up to the MAX\, you’ll be jumping\, sliding\, and bouncing your way to the finish line like never before. So grab your friends\, lace up your trainers\, and get ready for the ultimate inflatable adventure!
URL:https://ruhx.org.uk/events/inflatable-5k-bristol/
LOCATION:The North Somerset Showground\, Bristol Rd\, Bristol\, BS48 1NF
CATEGORIES:Challenge,Running
ATTACH;FMTTYPE=image/jpeg:https://ruhx.org.uk/wp-content/uploads/2024/01/Inflatable-5k.jpg
END:VEVENT
END:VCALENDAR