BEGIN:VCALENDAR
VERSION:2.0
PRODID:-//RUHX - ECPv6.15.20//NONSGML v1.0//EN
CALSCALE:GREGORIAN
METHOD:PUBLISH
X-ORIGINAL-URL:https://ruhx.org.uk
X-WR-CALDESC:Events for RUHX
REFRESH-INTERVAL;VALUE=DURATION:PT1H
X-Robots-Tag:noindex
X-PUBLISHED-TTL:PT1H
BEGIN:VTIMEZONE
TZID:Europe/London
BEGIN:DAYLIGHT
TZOFFSETFROM:+0000
TZOFFSETTO:+0100
TZNAME:BST
DTSTART:20250330T010000
END:DAYLIGHT
BEGIN:STANDARD
TZOFFSETFROM:+0100
TZOFFSETTO:+0000
TZNAME:GMT
DTSTART:20251026T010000
END:STANDARD
BEGIN:DAYLIGHT
TZOFFSETFROM:+0000
TZOFFSETTO:+0100
TZNAME:BST
DTSTART:20260329T010000
END:DAYLIGHT
BEGIN:STANDARD
TZOFFSETFROM:+0100
TZOFFSETTO:+0000
TZNAME:GMT
DTSTART:20261025T010000
END:STANDARD
BEGIN:DAYLIGHT
TZOFFSETFROM:+0000
TZOFFSETTO:+0100
TZNAME:BST
DTSTART:20270328T010000
END:DAYLIGHT
BEGIN:STANDARD
TZOFFSETFROM:+0100
TZOFFSETTO:+0000
TZNAME:GMT
DTSTART:20271031T010000
END:STANDARD
END:VTIMEZONE
BEGIN:VEVENT
DTSTART;VALUE=DATE:20260101
DTEND;VALUE=DATE:20270101
DTSTAMP:20260423T122309
CREATED:20221209T165404Z
LAST-MODIFIED:20260410T121036Z
UID:1682-1767225600-1798761599@ruhx.org.uk
SUMMARY:Skydive
DESCRIPTION:60 seconds. 13\,000ft. 125mph. Will you take the leap?\nBook your boarding pass for a once in a lifetime experience. Whether you’re an adrenaline junkie\, conquering a fear\, or celebrating a milestone\, get ready for the thrill of completing a charity tandem skydive for RUHX. Tick off the ultimate bucket list item with #TeamRUHX in support of health\, happiness and wellbeing for everyone in Bath and beyond. \nWe’ve partnered with the friendly team at Netheravon Airfield\, the home of the Army Parachute Association. You’ll be jumping over the beautiful Wiltshire countryside\, where\, if you’re lucky\, you’ll catch a glimpse of the White Horses on the way down. \n\n\n\n\n   \n\n\n\n\n\nOn the day\, you’ll receive thorough ground-training from a tandem master to prepare you for your fall to earth. Board your plane and when it’s time to jump\, you’ll be strapped securely to your tandem instructor before you exit the aircraft at 13\,000ft. Experience an exhilarating freefall of over 40 seconds before your instructor deploys the main parachute and together you steer your way back to the drop zone for a gentle\, controlled landing. \n\n\n\n\n\n\nHow to book\nThere are two fundraising options available. Either way\, you’ll get the same support from us! \n\n\n\nOption 1 – Minimum sponsorship\n£75 registration fee + £415 minimum sponsorship*\n \nStep 1: Contact us to check availability – let us know your preferred date.\nStep 2: Once your date is confirmed\, we’ll send you a registration form to complete.\nStep 3: We’ll book your place and send you everything you need to know about the day.\n \n \n\nOption 2 – Self-funding\n£245 + no minimum sponsorship target\n \nStep 1: Book your own skydive at https://www.netheravon.com/ (let them know it’s for us to apply the charity discount)\nStep 2: Let us know when you are taking the leap by emailing: fundraising@ruhx.org.uk\nStep 3: Set up a fundraising page and raise as much as you can for everyone in Bath and beyond.\n \n\n \n*This covers the cost of your jump (£245) and ensures a minimum donation of £245 to RUHX. 80% of your sponsorship must be raised by 4 weeks before your jump. \n\n\n\n\n\n\nFAQs\n\nWhat do I get for taking part? \n  \nExpandHide\n \n\n\n• Your very own RUHX t-shirt to wear on the day\n• All the fundraising materials and support you need along the way\n• The pride of doing something extra extraordinary for patients and staff at RUH Bath \n\n\n\n\nWhere does my sponsorship go? \n  \nExpandHide\n \n\n\nEvery penny raised from skydives goes towards life-changing projects at the RUH\, such as: \n• providing state-of-the-art equipment\n• providing facilities for loved ones to be with patients\n• transforming hospital wards\n• funding life changing research and innovative technologies\n• providing mental health first aid training to staff\n• arts programmes for children and older people on our wards \nWith your help\, we can make our care extra extraordinary for every patient and support our hospital staff to do what they do best. We couldn’t do it without your exceptional support. \n\n\n\n\nWhen can I skydive? \n  \nExpandHide\n \n\n\nYou can choose any available date for your skydive. The Army Parachute Association operates from 8am until dusk on Saturdays\, Sundays and bank holidays\, and from 12pm until last light on Wednesdays and Fridays throughout the year. \nExact jump times are given out on the day\, based on your arrival time and the weather\, so you should prepare for a full day event. You will be given an arrival time nearer to the time of the event. \n\n\n\n\nCan I bring my family and friends to watch me? \n  \nExpandHide\n \n\n\nYes\, please bring friends and family on the day to cheer you on! If you do bring children\, please note it can be a long day of waiting so please plan accordingly. \nGuests must bring photo ID as the site is MOD. \n\n\n\n\nHow do I get there? \n  \nExpandHide\n \n\n\nPlease click here and follow directions to the guardroom where you will check in and be directed to the airfield.  \n\n\n\n\nWill my skydive be filmed? \n  \nExpandHide\n \n\n\nMake a memory to last a lifetime and get the evidence to go with it! Your skydive can be filmed for an additional £150\, which is payable on the day to Netheravon. \nYour own personal cameraperson at Netheravon will capture your jump and free-fall\, as well as the before and after. We thoroughly recommend it! \nBooking in advance is recommended\, so please let us know if you would like this to be reserved for you or let Netheravon know directly if self-funding your skydive. \n\n\n\n\nWill I be skydiving on my own? \n  \nExpandHide\n \n\n\nYou will be partaking in a tandem skydive\, meaning you will be with a highly experienced skydiver for the entirety of your jump.  \n\n\n\n\nAge and weight limits \n  \nExpandHide\n \n\n\nThe minimum age for this event is 16 years old (under 18s must have written parental consent)\, but there is no upper age limit! \nThe maximum weight limit is 101kg\, which equals around 16 stone. This is due to the limitations of the parachuting equipment. \nOnce registered\, we will send you a waiver & medical form that needs to be completed and brought with you on the day. \n\n\n\n\nTerms & conditions \n  \nExpandHide\n \n\n\nPlease click here to read the full terms and conditions. \n\n\n\n\n 
URL:https://ruhx.org.uk/events/skydive/
LOCATION:Netheravon\, Airfield Camp Netheravon\, Netheravon\, SP4 9RY
CATEGORIES:Challenge,DIY
ATTACH;FMTTYPE=image/jpeg:https://ruhx.org.uk/wp-content/uploads/2022/07/skydive-web-header.jpg
END:VEVENT
BEGIN:VEVENT
DTSTART;VALUE=DATE:20260501
DTEND;VALUE=DATE:20260601
DTSTAMP:20260423T122309
CREATED:20251205T151922Z
LAST-MODIFIED:20260402T131300Z
UID:6235-1777593600-1780271999@ruhx.org.uk
SUMMARY:Walk of Life - your way!
DESCRIPTION:Do it your way for Royal United Hospitals Bath!\nOrganise your own walk any time in May. Choose a place\, route and distance that works for you\, gather your friends and family\, and join the Walk of Life – your way! \nThe Walk of Life is a celebration\, for loved ones and for those who cared for them. Whatever your reasons for walking\, you’ll be supporting your local hospital to do more for everyone who needs it. \nWhether it’s 5km on the 17th or a mile a day in May\, however you walk\, you won’t be doing it alone. \nThis is more than just a walk. This is a walk for everyone in Bath\, Wiltshire and beyond. \nSince it began in 2006\, the Walk of Life has raised over £800\,000 for RUH Bath\, thanks to your support. Now in its 20th year\, the Walk of Life has made a real life impact for patients\, families\, and our extraordinary hospital staff. \n  \n\n\n\n   \n\n\n\n\nHow to take part\n1. Sign up for free and get your t-shirt in the post\n2. Choose your distance\, route\, and date\n3. Set up a JustGiving page\n \nEveryone who raises £100 or more will receive an exclusive Walk of Life medal!\n \n\n\n\n\n\n  \nSign up to do it your way\n\n\n\n \nDate: any day (or several days) in May 2026\nDistance: you choose\nLocation: you choose\nRegistration fee: free\nTry to raise: £100\n \nClick here to join the in person event on Saturday 23 May instead.\n \n\n\n \n\n\n\n  \n\n\n\n\n\n\nFAQs\n\n20 stories for 20 years \n  \nExpandHide\n \n\n\nThe Walk of Life was started by Vanessa Kyte (Ness) who died on 15th November 2007\, seven years after first being diagnosed with breast cancer which developed into secondary lung cancer and brain tumours. Her passion for fundraising sparked her and her sister Nicola to begin the Walk of Life in 2006\, and it has developed and grown ever since into the beautiful celebration that it is today with thousands of walkers stepping out for an incredible cause. The Walk of Life remembers Ness with our volunteer run ‘GoodNess’ stops along the way. \nWhether you’re walking in memory of a friend or family member\, to celebrate yours or your loved one’s recovery at the RUH\, or to say thank you to the incredible RUH staff\, this is a walk for all lives. \nHave you taken part in the Walk of Life before or is this your first walk? Could you share your reasons for walking for our ’20 stories for 20 years’ series? Please get in touch by emailing fundraising@ruhx.org.uk or by filling out our short story form. \n\n\n\n\nWhat do I get for taking part? \n  \nExpandHide\n \n\n\nBy taking part in the Walk of Life – your way!\, you’ll get: \n• An RUHX t-shirt\n• A dedication back sign to let everyone know who you’re walking for\n• A Walk of Life finishers medal if you raise £100 or more\n• All the fundraising materials and support you need\n• The pride of helping your local hospital do more \n\n\n\n\nWhere does my sponsorship go? \n  \nExpandHide\n \n\n\nThe funds raised from the Walk of Life will make a real-life impact. Every penny goes towards life-changing projects at the RUH\, such as: \n• providing state-of-the-art equipment\n• providing facilities for loved ones to be with patients\n• transforming hospital wards\n• funding life changing research and innovative technologies\n• providing mental health first aid training to staff\n• arts programmes for children and older people on our wards \nWith your help\, we can make our care extra extraordinary for every patient and support our hospital staff to do what they do best. We couldn’t do it without your exceptional support. \n\n\n\n\nCan I take part as a team? \n  \nExpandHide\n \n\n\nYes! The Walk of Life is even more fun when friends and family join you. Fundraising as a team is a great way to raise even more and you can do this together on one fundraising page. \nThe Walk is an amazing team bonding experience\, made even better by the difference you’ll be making to your local community. \nThe virtual Walk of Life – your way! is free for everyone to enter. \n\n\n\n\nCan I take part in the in person event instead? \n  \nExpandHide\n \n\n\nThe Walk of Life – your way! is a virtual challenge and entry cannot be transferred to our in person event on Saturday 23 May. \nTo register for the in person event instead\, please click here to sign up and pay the registration fee. \n\n\n\n\nTerms & conditions \n  \nExpandHide\n \n\n\nPlease read the Terms & Conditions here. \n\n\n\n\n\n\n\n\n\n                                                    \n\n\n\n\n\n\n“Every year for the last eleven I have always felt a belonging with all that take part\, knowing that you are all walking for the same charity but all have different feelings. It is an amazing feeling to be a part of this fantastic walk.”
URL:https://ruhx.org.uk/events/walk-of-life-your-way/
LOCATION:You choose!
CATEGORIES:DIY,Walk
ATTACH;FMTTYPE=image/jpeg:https://ruhx.org.uk/wp-content/uploads/2025/12/WOL26-virtual-website-header.jpg
ORGANIZER;CN="RUHX":MAILTO:fundraising@ruhx.org.uk
END:VEVENT
END:VCALENDAR