BEGIN:VCALENDAR
VERSION:2.0
PRODID:-//RUHX - ECPv6.15.17.1//NONSGML v1.0//EN
CALSCALE:GREGORIAN
METHOD:PUBLISH
X-ORIGINAL-URL:https://ruhx.org.uk
X-WR-CALDESC:Events for RUHX
REFRESH-INTERVAL;VALUE=DURATION:PT1H
X-Robots-Tag:noindex
X-PUBLISHED-TTL:PT1H
BEGIN:VTIMEZONE
TZID:Europe/London
BEGIN:DAYLIGHT
TZOFFSETFROM:+0000
TZOFFSETTO:+0100
TZNAME:BST
DTSTART:20230326T010000
END:DAYLIGHT
BEGIN:STANDARD
TZOFFSETFROM:+0100
TZOFFSETTO:+0000
TZNAME:GMT
DTSTART:20231029T010000
END:STANDARD
BEGIN:DAYLIGHT
TZOFFSETFROM:+0000
TZOFFSETTO:+0100
TZNAME:BST
DTSTART:20240331T010000
END:DAYLIGHT
BEGIN:STANDARD
TZOFFSETFROM:+0100
TZOFFSETTO:+0000
TZNAME:GMT
DTSTART:20241027T010000
END:STANDARD
BEGIN:DAYLIGHT
TZOFFSETFROM:+0000
TZOFFSETTO:+0100
TZNAME:BST
DTSTART:20250330T010000
END:DAYLIGHT
BEGIN:STANDARD
TZOFFSETFROM:+0100
TZOFFSETTO:+0000
TZNAME:GMT
DTSTART:20251026T010000
END:STANDARD
END:VTIMEZONE
BEGIN:VEVENT
DTSTART;TZID=Europe/London:20240109T183000
DTEND;TZID=Europe/London:20240109T200000
DTSTAMP:20260420T223724
CREATED:20230927T144900Z
LAST-MODIFIED:20231121T161714Z
UID:2685-1704825000-1704830400@ruhx.org.uk
SUMMARY:India Dalai Lama Trek 2024 Info evening
DESCRIPTION:Move mountains for Royal United Hospitals Bath.\nTake on an epic bucket list challenge in 2024\, for patients\, hospital staff\, and everyone in our community. \n\nTrek the breathtaking Himalayan foothills\nExplore the spiritual home of the Dalai Lama\nVisit the Taj Mahal\, one of the new Wonders of the World\n\nInformation evening – 9 January 2024\nStart your journey by finding out more at our virtual information evening on Tuesday 9 January at 6.30pm\, where you’ll hear from our expert Trek organisers. \nQuestions such as what weather\, accommodation and food you can expect in India will all be covered on the night\, along with the chance to ask your own questions. \nPlease complete the following form to attend.\n \nCan’t make the date but want more information? Please get in touch with our Events & Community team by emailing fundraising@ruhx.org.uk or calling 01225 825691. We’re here to support you and answer any questions you have!
URL:https://ruhx.org.uk/events/india-dalai-lama-trek-2024-info-evening/
CATEGORIES:Challenge,Walk
ATTACH;FMTTYPE=image/jpeg:https://ruhx.org.uk/wp-content/uploads/2023/09/DSCF1873.jpg
ORGANIZER;CN="RUHX":MAILTO:fundraising@ruhx.org.uk
END:VEVENT
END:VCALENDAR