BEGIN:VCALENDAR
VERSION:2.0
PRODID:-//RUHX - ECPv6.15.20//NONSGML v1.0//EN
CALSCALE:GREGORIAN
METHOD:PUBLISH
X-ORIGINAL-URL:https://ruhx.org.uk
X-WR-CALDESC:Events for RUHX
REFRESH-INTERVAL;VALUE=DURATION:PT1H
X-Robots-Tag:noindex
X-PUBLISHED-TTL:PT1H
BEGIN:VTIMEZONE
TZID:Europe/London
BEGIN:DAYLIGHT
TZOFFSETFROM:+0000
TZOFFSETTO:+0100
TZNAME:BST
DTSTART:20220327T010000
END:DAYLIGHT
BEGIN:STANDARD
TZOFFSETFROM:+0100
TZOFFSETTO:+0000
TZNAME:GMT
DTSTART:20221030T010000
END:STANDARD
BEGIN:DAYLIGHT
TZOFFSETFROM:+0000
TZOFFSETTO:+0100
TZNAME:BST
DTSTART:20230326T010000
END:DAYLIGHT
BEGIN:STANDARD
TZOFFSETFROM:+0100
TZOFFSETTO:+0000
TZNAME:GMT
DTSTART:20231029T010000
END:STANDARD
BEGIN:DAYLIGHT
TZOFFSETFROM:+0000
TZOFFSETTO:+0100
TZNAME:BST
DTSTART:20240331T010000
END:DAYLIGHT
BEGIN:STANDARD
TZOFFSETFROM:+0100
TZOFFSETTO:+0000
TZNAME:GMT
DTSTART:20241027T010000
END:STANDARD
END:VTIMEZONE
BEGIN:VEVENT
DTSTART;VALUE=DATE:20230614
DTEND;VALUE=DATE:20230619
DTSTAMP:20260424T005354
CREATED:20230106T105752Z
LAST-MODIFIED:20230106T140643Z
UID:1790-1686700800-1687132799@ruhx.org.uk
SUMMARY:The Alps Trek
DESCRIPTION:Experience 3 countries in 3 days with this breathtaking Alps Trek\nFrom waterfalls running down glaciers to stunning clifftop views\, this incredible Alps trek will not disappoint.  \nCovering 46km through France\, Italy and Switzerland\, you will fully immerse yourself in what the Mont Blanc region of the Alps has to offer\, all with expert guidance from the European Challenge team. \n\n\n\n\n\n                                                                      \n\n\n\n\n\nOnly five days in total\, this challenge is ideal for those with less time to take away from home – there is nothing stopping you from joining in this trip of a lifetime!  \n\n\n\n\n\n\nHow to book\nThere are two fundraising options available. Either way\, you’ll get the same support from us! \nRaise a minimum sponsorship\n£199 registration fee + £2450 minimum sponsorship \nSelf-funding\n£199 registration fee + £1225 + raise as much as you can \nStep 1: Register your place with Global Adventure Challenges here\nStep 2: Set up your JustGiving page here\nStep 3: We’ll send your welcome pack in the post \n  \n\n\n\n\n                                                                      \n\n\n\n\n\n\n\n\nWhy take part for RUHX? \n  \nExpandHide\n \n\n\n• Get your very own #TeamRUHX t-shirt to wear on the day.\n• Receive support along the way from our expert RUHX fundraising team.\n• Do something extra extraordinary for patients and staff at the Royal United Hospitals Bath. \n\n\n\n\nWhat’s included in the challenge? \n  \nExpandHide\n \n\n\nExpert guidance and support throughout\, return flights from London to Geneva\, accommodation\, meals\, plus more are all included as part of the challenge. \nFor further information on what is included\, please visit Global Adventure Challenge’s website here  \n\n\n\n\nAre there any other dates available? \n  \nExpandHide\n \n\n\nGlobal Adventure Challenges run this challenge twice a year\, in June and September. You can choose between the different dates\, including 2024\, by visiting the challenges brochure here  \n\n\n\n\n\n\n\n\n\nReady to book? Join #TeamRUHX today.
URL:https://ruhx.org.uk/events/the-alps-trek/
LOCATION:The Alps\, Chamonix\, France
CATEGORIES:Challenge
ATTACH;FMTTYPE=image/jpeg:https://ruhx.org.uk/wp-content/uploads/2023/01/Alps-Mont-Blanc-18.jpg
END:VEVENT
END:VCALENDAR